BEGIN:VCALENDAR
VERSION:2.0
PRODID:-//EFS Vasakyrkan - ECPv6.15.20//NONSGML v1.0//EN
CALSCALE:GREGORIAN
METHOD:PUBLISH
X-WR-CALNAME:EFS Vasakyrkan
X-ORIGINAL-URL:https://www.vasakyrkan.com
X-WR-CALDESC:Events for EFS Vasakyrkan
REFRESH-INTERVAL;VALUE=DURATION:PT1H
X-Robots-Tag:noindex
X-PUBLISHED-TTL:PT1H
BEGIN:VTIMEZONE
TZID:Europe/Stockholm
BEGIN:DAYLIGHT
TZOFFSETFROM:+0100
TZOFFSETTO:+0200
TZNAME:CEST
DTSTART:20250330T010000
END:DAYLIGHT
BEGIN:STANDARD
TZOFFSETFROM:+0200
TZOFFSETTO:+0100
TZNAME:CET
DTSTART:20251026T010000
END:STANDARD
BEGIN:DAYLIGHT
TZOFFSETFROM:+0100
TZOFFSETTO:+0200
TZNAME:CEST
DTSTART:20260329T010000
END:DAYLIGHT
BEGIN:STANDARD
TZOFFSETFROM:+0200
TZOFFSETTO:+0100
TZNAME:CET
DTSTART:20261025T010000
END:STANDARD
BEGIN:DAYLIGHT
TZOFFSETFROM:+0100
TZOFFSETTO:+0200
TZNAME:CEST
DTSTART:20270328T010000
END:DAYLIGHT
BEGIN:STANDARD
TZOFFSETFROM:+0200
TZOFFSETTO:+0100
TZNAME:CET
DTSTART:20271031T010000
END:STANDARD
END:VTIMEZONE
BEGIN:VEVENT
DTSTART;TZID=Europe/Stockholm:20260422T083000
DTEND;TZID=Europe/Stockholm:20260422T093000
DTSTAMP:20260422T184120
CREATED:20260324T142701Z
LAST-MODIFIED:20260324T142701Z
UID:13813-1776846600-1776850200@www.vasakyrkan.com
SUMMARY:Onsdagsbön
DESCRIPTION:Varje onsdag 08:30 samlas vi för bön i Vasakyrkan. Vi ber under ca 30 minuter. Kom som du är! Ingen anmälan krävs!
URL:https://www.vasakyrkan.com/kalender/onsdagsbon-37/
LOCATION:Vasakyrkan\, Vasagatan 12\, Umeå\, Sweden
CATEGORIES:Föreningen,Gemenskap
ATTACH;FMTTYPE=image/jpeg:/wp-content/uploads/2023/08/BON-3.jpg
ORGANIZER;CN="Vasakyrkan%2C EFS Missionsf%C3%B6rening i Ume%C3%A5":MAILTO:info@vasakyrkan.com
END:VEVENT
END:VCALENDAR