BEGIN:VCALENDAR
VERSION:2.0
PRODID:-//EFS Vasakyrkan - ECPv6.15.20//NONSGML v1.0//EN
CALSCALE:GREGORIAN
METHOD:PUBLISH
X-WR-CALNAME:EFS Vasakyrkan
X-ORIGINAL-URL:https://www.vasakyrkan.com
X-WR-CALDESC:Events for EFS Vasakyrkan
REFRESH-INTERVAL;VALUE=DURATION:PT1H
X-Robots-Tag:noindex
X-PUBLISHED-TTL:PT1H
BEGIN:VTIMEZONE
TZID:Europe/Stockholm
BEGIN:DAYLIGHT
TZOFFSETFROM:+0100
TZOFFSETTO:+0200
TZNAME:CEST
DTSTART:20250330T010000
END:DAYLIGHT
BEGIN:STANDARD
TZOFFSETFROM:+0200
TZOFFSETTO:+0100
TZNAME:CET
DTSTART:20251026T010000
END:STANDARD
BEGIN:DAYLIGHT
TZOFFSETFROM:+0100
TZOFFSETTO:+0200
TZNAME:CEST
DTSTART:20260329T010000
END:DAYLIGHT
BEGIN:STANDARD
TZOFFSETFROM:+0200
TZOFFSETTO:+0100
TZNAME:CET
DTSTART:20261025T010000
END:STANDARD
BEGIN:DAYLIGHT
TZOFFSETFROM:+0100
TZOFFSETTO:+0200
TZNAME:CEST
DTSTART:20270328T010000
END:DAYLIGHT
BEGIN:STANDARD
TZOFFSETFROM:+0200
TZOFFSETTO:+0100
TZNAME:CET
DTSTART:20271031T010000
END:STANDARD
END:VTIMEZONE
BEGIN:VEVENT
DTSTART;TZID=Europe/Stockholm:20260421T123000
DTEND;TZID=Europe/Stockholm:20260421T130000
DTSTAMP:20260421T030313
CREATED:20260320T144305Z
LAST-MODIFIED:20260320T144305Z
UID:13779-1776774600-1776776400@www.vasakyrkan.com
SUMMARY:Lunchbön
DESCRIPTION:Varje tisdag har vi lunchbön i Vasakyrkan. Vi träffas 12:30 för att tacka och lova Gud. Ingen anmälan krävs!
URL:https://www.vasakyrkan.com/kalender/lunchbon-32/
LOCATION:Vasakyrkan\, Vasagatan 12\, Umeå\, Sweden
CATEGORIES:Föreningen,Gemenskap,Öppen Kyrka
ATTACH;FMTTYPE=image/jpeg:/wp-content/uploads/2023/10/Lunchbon.jpg
ORGANIZER;CN="Vasakyrkan%2C EFS Missionsf%C3%B6rening i Ume%C3%A5":MAILTO:info@vasakyrkan.com
END:VEVENT
BEGIN:VEVENT
DTSTART;TZID=Europe/Stockholm:20260421T130000
DTEND;TZID=Europe/Stockholm:20260421T143000
DTSTAMP:20260421T030313
CREATED:20260320T144809Z
LAST-MODIFIED:20260320T144809Z
UID:13785-1776776400-1776781800@www.vasakyrkan.com
SUMMARY:Gemenskaps-Café
DESCRIPTION:För gemenskap och integration. \nVarje tisdag på Vasakyrkan. Välkommen! \n 
URL:https://www.vasakyrkan.com/kalender/gemenskaps-cafe-25/
LOCATION:Vasakyrkan\, Vasagatan 12\, Umeå\, Sweden
CATEGORIES:Diakoni,Gemenskap
ATTACH;FMTTYPE=image/png:/wp-content/uploads/2024/10/Valkommen-1.png
ORGANIZER;CN="Vasakyrkan%2C EFS Missionsf%C3%B6rening i Ume%C3%A5":MAILTO:info@vasakyrkan.com
END:VEVENT
END:VCALENDAR